BEGIN:VCALENDAR
VERSION:2.0
PRODID:icalendar-ruby
CALSCALE:GREGORIAN
METHOD:PUBLISH
BEGIN:VEVENT
DTSTAMP:20260424T154856Z
UID:246-470385@ctabchurch.org
DTSTART:20260425T140000Z
DTEND:20260425T150000Z
CLASS:PUBLIC
CREATED:20260408T213703
DESCRIPTION:Come join our very own Pastor Cecil for a powerful Men’s Pray
 er Breakfast as we seek God together\, strengthen our walk in Christ\, and
  stand united as brothers in faith. Scan the QR code to register and secur
 e your seat for this uplifting time of prayer and fellowship.
LAST-MODIFIED:20260408T213703
LOCATION:
SUMMARY:Men's Prayer Breakfast
URL;VALUE=URI:https://ctabchurch.org/events/mens-prayer-breakfast/2026-04-2
 5
ATTACH;FILENAME=mens prayer breakfast_April 25.jpg;FMTTYPE=image/jpeg:https
 ://dq5pwpg1q8ru0.cloudfront.net/2026/04/09/01/37/02/70f7c223-f1de-45f6-95f
 d-f82267e66ae6/mens%20prayer%20breakfast_April%2025.jpg
END:VEVENT
END:VCALENDAR
